BEGIN:VCALENDAR
VERSION:2.0
PRODID:-//Gewerbeverband AR - ECPv6.15.11//NONSGML v1.0//EN
CALSCALE:GREGORIAN
METHOD:PUBLISH
X-WR-CALNAME:Gewerbeverband AR
X-ORIGINAL-URL:https://gewerbear.ch
X-WR-CALDESC:Veranstaltungen für Gewerbeverband AR
REFRESH-INTERVAL;VALUE=DURATION:PT1H
X-Robots-Tag:noindex
X-PUBLISHED-TTL:PT1H
BEGIN:VTIMEZONE
TZID:UTC
BEGIN:STANDARD
TZOFFSETFROM:+0000
TZOFFSETTO:+0000
TZNAME:UTC
DTSTART:20250101T000000
END:STANDARD
END:VTIMEZONE
BEGIN:VEVENT
DTSTART;TZID=UTC:20261125T133000
DTEND;TZID=UTC:20261125T170000
DTSTAMP:20260420T170257
CREATED:20260114T180401Z
LAST-MODIFIED:20260324T172224Z
UID:4325-1795613400-1795626000@gewerbear.ch
SUMMARY:Plattform Berufsbildung 2026
DESCRIPTION:Weitere Informationen folgen
URL:https://gewerbear.ch/event/plattform-berufsbildung-2026/
LOCATION:Kantonschule Trogen\, Kantonschulstrasse 24\, Trogen\, 9043
ATTACH;FMTTYPE=image/png:https://gewerbear.ch/wp-content/uploads/2026/01/Plattform-Berufsbildung-2025.png
END:VEVENT
END:VCALENDAR