BEGIN:VCALENDAR
VERSION:2.0
PRODID:-//Gewerbeverband AR - ECPv6.15.11//NONSGML v1.0//EN
CALSCALE:GREGORIAN
METHOD:PUBLISH
X-ORIGINAL-URL:https://gewerbear.ch
X-WR-CALDESC:Veranstaltungen für Gewerbeverband AR
REFRESH-INTERVAL;VALUE=DURATION:PT1H
X-Robots-Tag:noindex
X-PUBLISHED-TTL:PT1H
BEGIN:VTIMEZONE
TZID:UTC
BEGIN:STANDARD
TZOFFSETFROM:+0000
TZOFFSETTO:+0000
TZNAME:UTC
DTSTART:20250101T000000
END:STANDARD
END:VTIMEZONE
BEGIN:VEVENT
DTSTART;TZID=UTC:20260305T170000
DTEND;TZID=UTC:20260305T170000
DTSTAMP:20260421T125927
CREATED:20260128T115745Z
LAST-MODIFIED:20260128T115745Z
UID:4349-1772730000-1772730000@gewerbear.ch
SUMMARY:Verein Smartes Appenzellerland: zubi.swiss - die Data Driven Company
DESCRIPTION:Mit Daten zu besseren Entscheidungen \nWie können mit der richtigen Nutzung von Daten fundierte und schnellere Entscheidungen getroffen werden? \nAm Beispiel von zubi.swiss wird aufgezeigt\, wie der Weg zur „Data Driven Company“ aussieht – wie Daten als Wachstumsmotor für Unternehmen genutzt werden können. \nDas Programm: \n\nzubi.swiss – Von der Intuition zur datenbasierten Entscheidung\nDie Lösung dahinter (Septhos AG) – Technologischer Einblick in die Data-Driven-Lösung\nVerkaufen mit Wissen (clavis IT) – Präsentation der Instore Assistant App (ISA)\, die mobile Echtzeit-Lösung\nIm Anschluss: Diskussion und Apéro\n\nDie Teilnahme ist kostenlos. Die Teilnehmerzahl ist auf 40 Personen begrenzt. \n Anmeldung bis Freitag 27.02.2026 \n 
URL:https://gewerbear.ch/event/verein-smartes-appenzellerland-zubi-swiss-die-data-driven-company/
LOCATION:zubi Outlet\, St.Gallerstrasse 49\, Herisau
ATTACH;FMTTYPE=image/png:https://gewerbear.ch/wp-content/uploads/2026/01/VSAL_2026_03_05.png
END:VEVENT
END:VCALENDAR